BEGIN:VCALENDAR
VERSION:2.0
PRODID:-//Department Of Education//b283b5e1-4408-4af9-b76e-3ee268464cf0
BEGIN:VTIMEZONE
TZID:Australia/Sydney
TZURL:http://tzurl.org/zoneinfo-outlook/Australia/Sydney
X-LIC-LOCATION:Australia/Sydney
BEGIN:STANDARD
TZOFFSETFROM:+1100
TZOFFSETTO:+1000
TZNAME:AEST
DTSTART:19700405T030000
RRULE:FREQ=YEARLY;BYMONTH=4;BYDAY=1SU
END:STANDARD
BEGIN:DAYLIGHT
TZOFFSETFROM:+1000
TZOFFSETTO:+1100
TZNAME:AEDT
DTSTART:19701004T020000
RRULE:FREQ=YEARLY;BYMONTH=10;BYDAY=1SU
END:DAYLIGHT
END:VTIMEZONE
CALSCALE:GREGORIAN
X-WR-TIMEZONE:Australia/Sydney
BEGIN:VEVENT
DTSTART;TZID=Australia/Sydney:20200214T130000
DTEND;TZID=Australia/Sydney:20200214T150000
DTSTAMP:20200214T000000Z
UID:44a29624-e736-45b9-92e0-5cc72da953e7
LOCATION:Hunter Theatre, Hunter School of Performing Arts
SUMMARY;LANGUAGE=en-us:Reprise 2020 Afternoon Performance 
SEQUENCE:0
DESCRIPTION:Reprise 2020 - Afternoon Performance.  Tickets available Term 4, 2019.   Reprise is an annual HSC Music showcase concert developed to provide Hunter and Central Coast students the opportunity to observe outstanding HSC Music Performances for Music 1, Music 2 and Extension courses. Reprise 2020 will be held at The Hunter Theatre, Hunter School of Performing Arts, Broadmeadow. The concert is an excellent opportunity for both students and Music staff to improve their knowledge and understanding of Band 6 performance expectations for the HSC Music Exam.
END:VEVENT
TRANSP:TRANSPARENT
END:VCALENDAR
